BEGIN:VCALENDAR
VERSION:2.0
PRODID:-//Evangelische Kirchengemeinde Lindlar - ECPv6.15.11//NONSGML v1.0//EN
CALSCALE:GREGORIAN
METHOD:PUBLISH
X-WR-CALNAME:Evangelische Kirchengemeinde Lindlar
X-ORIGINAL-URL:https://www.ev-kirche-lindlar.de
X-WR-CALDESC:Veranstaltungen für Evangelische Kirchengemeinde Lindlar
REFRESH-INTERVAL;VALUE=DURATION:PT1H
X-Robots-Tag:noindex
X-PUBLISHED-TTL:PT1H
BEGIN:VTIMEZONE
TZID:Europe/Berlin
BEGIN:DAYLIGHT
TZOFFSETFROM:+0100
TZOFFSETTO:+0200
TZNAME:CEST
DTSTART:20250330T010000
END:DAYLIGHT
BEGIN:STANDARD
TZOFFSETFROM:+0200
TZOFFSETTO:+0100
TZNAME:CET
DTSTART:20251026T010000
END:STANDARD
BEGIN:DAYLIGHT
TZOFFSETFROM:+0100
TZOFFSETTO:+0200
TZNAME:CEST
DTSTART:20260329T010000
END:DAYLIGHT
BEGIN:STANDARD
TZOFFSETFROM:+0200
TZOFFSETTO:+0100
TZNAME:CET
DTSTART:20261025T010000
END:STANDARD
BEGIN:DAYLIGHT
TZOFFSETFROM:+0100
TZOFFSETTO:+0200
TZNAME:CEST
DTSTART:20270328T010000
END:DAYLIGHT
BEGIN:STANDARD
TZOFFSETFROM:+0200
TZOFFSETTO:+0100
TZNAME:CET
DTSTART:20271031T010000
END:STANDARD
END:VTIMEZONE
BEGIN:VEVENT
DTSTART;TZID=Europe/Berlin:20260502T180000
DTEND;TZID=Europe/Berlin:20260502T190000
DTSTAMP:20260420T122531
CREATED:20260407T132828Z
LAST-MODIFIED:20260407T132828Z
UID:2104-1777744800-1777748400@www.ev-kirche-lindlar.de
SUMMARY:Gottesdienst im Paul-Schneider-Gemeindezentrum
DESCRIPTION:Herzliche Einladung zum Gottesdienst im\nPaul-Schneider-Gemeindezentrum um\n18 Uhr in Schmitzhöhe
URL:https://www.ev-kirche-lindlar.de/veranstaltung/gottesdienst-im-paul-schneider-gemeindezentrum-3/
LOCATION:Paul-Schneider-Gemeindezentrum\, Paul-Schneider-Str. 1\, Lindlar-Schmitzhöhe\, NRW\, 51789
CATEGORIES:Gottesdienst
ATTACH;FMTTYPE=image/jpeg:https://www.ev-kirche-lindlar.de/wp-content/uploads/2020/07/ed4d949f9e.jpg
ORGANIZER;CN="Evang. Kirchengemeinde":MAILTO:lindlar@ekir.de
END:VEVENT
END:VCALENDAR